BEGIN:VCALENDAR
VERSION:2.0
PRODID:icalendar-ruby
CALSCALE:GREGORIAN
METHOD:PUBLISH
BEGIN:VEVENT
DTSTAMP:20260421T125940Z
UID:261-1378121@bb4square.org
DTSTART;VALUE=DATE:20260422
DTEND;VALUE=DATE:20260422
CLASS:PUBLIC
CREATED:20260325T140107
DESCRIPTION:You can join us on our Facebook page by clicking here.\nOr you 
 can join us on YouTube here.\n  
LAST-MODIFIED:20260325T140107
LOCATION:YouTube and Facebook
SUMMARY:Wednesday Prayer
URL;VALUE=URI:https://www.bb4square.org/events/wednesday-prayer--261/2026-0
 4-22
ATTACH;FILENAME=Wednesday Prayer.JPG;FMTTYPE=image/jpeg:https://dq5pwpg1q8r
 u0.cloudfront.net/2025/05/25/18/55/43/bfa3aaa9-6af5-4b69-a82e-853b3079993a
 /Wednesday%20Prayer.JPG
END:VEVENT
END:VCALENDAR
